BEGIN:VCALENDAR
VERSION:2.0
PRODID:-//Oologah Assembly of God - ECPv6.15.20//NONSGML v1.0//EN
CALSCALE:GREGORIAN
METHOD:PUBLISH
X-ORIGINAL-URL:https://oagok.org
X-WR-CALDESC:Events for Oologah Assembly of God
REFRESH-INTERVAL;VALUE=DURATION:PT1H
X-Robots-Tag:noindex
X-PUBLISHED-TTL:PT1H
BEGIN:VTIMEZONE
TZID:America/Chicago
BEGIN:DAYLIGHT
TZOFFSETFROM:-0600
TZOFFSETTO:-0500
TZNAME:CDT
DTSTART:20240310T080000
END:DAYLIGHT
BEGIN:STANDARD
TZOFFSETFROM:-0500
TZOFFSETTO:-0600
TZNAME:CST
DTSTART:20241103T070000
END:STANDARD
BEGIN:DAYLIGHT
TZOFFSETFROM:-0600
TZOFFSETTO:-0500
TZNAME:CDT
DTSTART:20250309T080000
END:DAYLIGHT
BEGIN:STANDARD
TZOFFSETFROM:-0500
TZOFFSETTO:-0600
TZNAME:CST
DTSTART:20251102T070000
END:STANDARD
BEGIN:DAYLIGHT
TZOFFSETFROM:-0600
TZOFFSETTO:-0500
TZNAME:CDT
DTSTART:20260308T080000
END:DAYLIGHT
BEGIN:STANDARD
TZOFFSETFROM:-0500
TZOFFSETTO:-0600
TZNAME:CST
DTSTART:20261101T070000
END:STANDARD
END:VTIMEZONE
BEGIN:VEVENT
DTSTART;TZID=America/Chicago:20250418T203000
DTEND;TZID=America/Chicago:20250418T213000
DTSTAMP:20260419T151922
CREATED:20250402T020048Z
LAST-MODIFIED:20250402T020048Z
UID:9915-1745008200-1745011800@oagok.org
SUMMARY:Glow in the dark egg hunt Friday April 18
DESCRIPTION:Join us Friday evening\, April 18th\, at dusk (about 8:30 p.m.) for a glow in the dark Easter egg hunt. This is designed for ages 5 and above. We will have an egg hunt for smaller children on Saturday morning April 19th at 10:00 a.m. We also invite you to join us on Sunday as we gather for worship at 10:30 a.m. Celebrate the resurrection of Jesus! \nThis is a free event.
URL:https://oagok.org/event/glow-in-the-dark-egg-hunt-friday-april-18/
LOCATION:Oologah Assembly of God
END:VEVENT
END:VCALENDAR