BEGIN:VCALENDAR
VERSION:2.0
PRODID:-//Oologah Assembly of God - ECPv6.15.20//NONSGML v1.0//EN
CALSCALE:GREGORIAN
METHOD:PUBLISH
X-WR-CALNAME:Oologah Assembly of God
X-ORIGINAL-URL:https://oagok.org
X-WR-CALDESC:Events for Oologah Assembly of God
REFRESH-INTERVAL;VALUE=DURATION:PT1H
X-Robots-Tag:noindex
X-PUBLISHED-TTL:PT1H
BEGIN:VTIMEZONE
TZID:America/Chicago
BEGIN:DAYLIGHT
TZOFFSETFROM:-0600
TZOFFSETTO:-0500
TZNAME:CDT
DTSTART:20240310T080000
END:DAYLIGHT
BEGIN:STANDARD
TZOFFSETFROM:-0500
TZOFFSETTO:-0600
TZNAME:CST
DTSTART:20241103T070000
END:STANDARD
BEGIN:DAYLIGHT
TZOFFSETFROM:-0600
TZOFFSETTO:-0500
TZNAME:CDT
DTSTART:20250309T080000
END:DAYLIGHT
BEGIN:STANDARD
TZOFFSETFROM:-0500
TZOFFSETTO:-0600
TZNAME:CST
DTSTART:20251102T070000
END:STANDARD
BEGIN:DAYLIGHT
TZOFFSETFROM:-0600
TZOFFSETTO:-0500
TZNAME:CDT
DTSTART:20260308T080000
END:DAYLIGHT
BEGIN:STANDARD
TZOFFSETFROM:-0500
TZOFFSETTO:-0600
TZNAME:CST
DTSTART:20261101T070000
END:STANDARD
END:VTIMEZONE
BEGIN:VEVENT
DTSTART;TZID=America/Chicago:20250403T190000
DTEND;TZID=America/Chicago:20250403T203000
DTSTAMP:20260419T151722
CREATED:20250304T213518Z
LAST-MODIFIED:20250402T015543Z
UID:9891-1743706800-1743712200@oagok.org
SUMMARY:Women's Bible Study
DESCRIPTION:Attention All Ladies! A seven week bible study designed especially for women of faith will begin on March 13th at 7:00. Trudi Johnson is leading this study created by\, Jennifer Rothschild\, entitled\, “When Faith Becomes Sight”. We hope to see you there!
URL:https://oagok.org/event/womens-bible-study/
LOCATION:Oologah Assembly of God
ATTACH;FMTTYPE=image/jpeg:https://oagok.org/wp-content/uploads/2022/08/Ladies-Bible-Study.jpg
END:VEVENT
END:VCALENDAR