BEGIN:VCALENDAR
VERSION:2.0
PRODID:-//Oologah Assembly of God - ECPv6.15.20//NONSGML v1.0//EN
CALSCALE:GREGORIAN
METHOD:PUBLISH
X-WR-CALNAME:Oologah Assembly of God
X-ORIGINAL-URL:https://oagok.org
X-WR-CALDESC:Events for Oologah Assembly of God
REFRESH-INTERVAL;VALUE=DURATION:PT1H
X-Robots-Tag:noindex
X-PUBLISHED-TTL:PT1H
BEGIN:VTIMEZONE
TZID:America/Chicago
BEGIN:DAYLIGHT
TZOFFSETFROM:-0600
TZOFFSETTO:-0500
TZNAME:CDT
DTSTART:20230312T080000
END:DAYLIGHT
BEGIN:STANDARD
TZOFFSETFROM:-0500
TZOFFSETTO:-0600
TZNAME:CST
DTSTART:20231105T070000
END:STANDARD
BEGIN:DAYLIGHT
TZOFFSETFROM:-0600
TZOFFSETTO:-0500
TZNAME:CDT
DTSTART:20240310T080000
END:DAYLIGHT
BEGIN:STANDARD
TZOFFSETFROM:-0500
TZOFFSETTO:-0600
TZNAME:CST
DTSTART:20241103T070000
END:STANDARD
BEGIN:DAYLIGHT
TZOFFSETFROM:-0600
TZOFFSETTO:-0500
TZNAME:CDT
DTSTART:20250309T080000
END:DAYLIGHT
BEGIN:STANDARD
TZOFFSETFROM:-0500
TZOFFSETTO:-0600
TZNAME:CST
DTSTART:20251102T070000
END:STANDARD
END:VTIMEZONE
BEGIN:VEVENT
DTSTART;TZID=America/Chicago:20240411T120000
DTEND;TZID=America/Chicago:20240411T133000
DTSTAMP:20260424T080959
CREATED:20240409T131901Z
LAST-MODIFIED:20240409T131901Z
UID:9812-1712836800-1712842200@oagok.org
SUMMARY:J.O.Y. Fellowship
DESCRIPTION:The J.O.Y. Group will be meeting 🥗Thursday April 11th🥗 at 12pm for a Spring Salads Fellowship! Bring your favorite salad or trimmings for salads\, pasta salads\, chips\, crackers\, dips\, or dessert! Everyone 50 years and older is invited and don’t forget to invite your friends!
URL:https://oagok.org/event/j-o-y-fellowship-3/
ATTACH;FMTTYPE=image/png:https://oagok.org/wp-content/uploads/2024/04/98260EBF-D36F-4FEB-8FA8-983B90FFAE60.png
END:VEVENT
END:VCALENDAR